BEGIN:VCALENDAR
VERSION:2.0
PRODID:-//PIRATEN Kreis Mettmann - ECPv6.15.20//NONSGML v1.0//EN
CALSCALE:GREGORIAN
METHOD:PUBLISH
X-ORIGINAL-URL:https://kv-piraten.me
X-WR-CALDESC:Veranstaltungen für PIRATEN Kreis Mettmann
REFRESH-INTERVAL;VALUE=DURATION:PT1H
X-Robots-Tag:noindex
X-PUBLISHED-TTL:PT1H
BEGIN:VTIMEZONE
TZID:Europe/Berlin
BEGIN:DAYLIGHT
TZOFFSETFROM:+0100
TZOFFSETTO:+0200
TZNAME:CEST
DTSTART:20230326T010000
END:DAYLIGHT
BEGIN:STANDARD
TZOFFSETFROM:+0200
TZOFFSETTO:+0100
TZNAME:CET
DTSTART:20231029T010000
END:STANDARD
BEGIN:DAYLIGHT
TZOFFSETFROM:+0100
TZOFFSETTO:+0200
TZNAME:CEST
DTSTART:20240331T010000
END:DAYLIGHT
BEGIN:STANDARD
TZOFFSETFROM:+0200
TZOFFSETTO:+0100
TZNAME:CET
DTSTART:20241027T010000
END:STANDARD
BEGIN:DAYLIGHT
TZOFFSETFROM:+0100
TZOFFSETTO:+0200
TZNAME:CEST
DTSTART:20250330T010000
END:DAYLIGHT
BEGIN:STANDARD
TZOFFSETFROM:+0200
TZOFFSETTO:+0100
TZNAME:CET
DTSTART:20251026T010000
END:STANDARD
END:VTIMEZONE
BEGIN:VEVENT
DTSTART;TZID=Europe/Berlin:20240709T190000
DTEND;TZID=Europe/Berlin:20240709T200000
DTSTAMP:20260424T071114
CREATED:20240705T114154Z
LAST-MODIFIED:20240705T114155Z
UID:1225-1720551600-1720555200@kv-piraten.me
SUMMARY:AG Bildung
DESCRIPTION:Mumble\, Raum AG Bildung / Tellerrand (wiederholt sich alle 7 Tage)
URL:https://kv-piraten.me/termin/ag-bildung/
END:VEVENT
BEGIN:VEVENT
DTSTART;TZID=Europe/Berlin:20240709T190000
DTEND;TZID=Europe/Berlin:20240709T220000
DTSTAMP:20260424T071114
CREATED:20240705T114831Z
LAST-MODIFIED:20240705T114832Z
UID:1228-1720551600-1720562400@kv-piraten.me
SUMMARY:Stammtisch Düsseldorf
DESCRIPTION:Bilker Häzz\, Bilker Allee 208 (Ecke Jahnstraße)\, 40215 Düsseldorf{wiederholt sich monatlich – jeden 2. Dienstag im Monat)https://duesseldorf.piratenpartei-nrw.de/mitarbeiten/stammtische/
URL:https://kv-piraten.me/termin/stammtisch-duesseldorf/
END:VEVENT
BEGIN:VEVENT
DTSTART;TZID=Europe/Berlin:20240709T200000
DTEND;TZID=Europe/Berlin:20240709T210000
DTSTAMP:20260424T071114
CREATED:20240705T115713Z
LAST-MODIFIED:20240705T115813Z
UID:1231-1720555200-1720558800@kv-piraten.me
SUMMARY:Team PolGF
DESCRIPTION:NRW-Mumble im Raum Zweig der innerparteilichen Arbeit > Bund > Team PolGF (wiederholt sich alle 7 Tage) Sitzung der politischen Geschäftsführer und Themenbeauftragten der Piratenparteihttps://wiki.piratenpartei.de/Team_polGF
URL:https://kv-piraten.me/termin/team-polgf/
END:VEVENT
END:VCALENDAR