BEGIN:VCALENDAR
VERSION:2.0
PRODID:-//PIRATEN Kreis Mettmann - ECPv6.15.20//NONSGML v1.0//EN
CALSCALE:GREGORIAN
METHOD:PUBLISH
X-ORIGINAL-URL:https://kv-piraten.me
X-WR-CALDESC:Veranstaltungen für PIRATEN Kreis Mettmann
REFRESH-INTERVAL;VALUE=DURATION:PT1H
X-Robots-Tag:noindex
X-PUBLISHED-TTL:PT1H
BEGIN:VTIMEZONE
TZID:Europe/Berlin
BEGIN:DAYLIGHT
TZOFFSETFROM:+0100
TZOFFSETTO:+0200
TZNAME:CEST
DTSTART:20230326T010000
END:DAYLIGHT
BEGIN:STANDARD
TZOFFSETFROM:+0200
TZOFFSETTO:+0100
TZNAME:CET
DTSTART:20231029T010000
END:STANDARD
BEGIN:DAYLIGHT
TZOFFSETFROM:+0100
TZOFFSETTO:+0200
TZNAME:CEST
DTSTART:20240331T010000
END:DAYLIGHT
BEGIN:STANDARD
TZOFFSETFROM:+0200
TZOFFSETTO:+0100
TZNAME:CET
DTSTART:20241027T010000
END:STANDARD
BEGIN:DAYLIGHT
TZOFFSETFROM:+0100
TZOFFSETTO:+0200
TZNAME:CEST
DTSTART:20250330T010000
END:DAYLIGHT
BEGIN:STANDARD
TZOFFSETFROM:+0200
TZOFFSETTO:+0100
TZNAME:CET
DTSTART:20251026T010000
END:STANDARD
END:VTIMEZONE
BEGIN:VEVENT
DTSTART;TZID=Europe/Berlin:20240711T200000
DTEND;TZID=Europe/Berlin:20240711T220000
DTSTAMP:20260424T070950
CREATED:20240705T120156Z
LAST-MODIFIED:20240705T120157Z
UID:1234-1720728000-1720735200@kv-piraten.me
SUMMARY:AG Gesundheit+Pflege
DESCRIPTION:Bundesweites Treffen der Gesundheitsexperten der Piratenpartei (wiederholt sich alle 7 Tage)Einladungslink: https://bbb.piratensommer.de/b/mar-qmx-wgc-aam
URL:https://kv-piraten.me/termin/ag-gesundheitpflege/
END:VEVENT
BEGIN:VEVENT
DTSTART;TZID=Europe/Berlin:20240711T203000
DTEND;TZID=Europe/Berlin:20240711T223000
DTSTAMP:20260424T070950
CREATED:20240705T120825Z
LAST-MODIFIED:20240705T120826Z
UID:1236-1720729800-1720737000@kv-piraten.me
SUMMARY:Vorstandsitzung LaVo NRW
DESCRIPTION:Wiederholt sich alle 2 Wochen \n\n\n\nmumble://mumble.piratenpartei-nrw.de/Gliederungen/Nordrhein-Westfalen/Vorstandssitzung&version=1.2.0https://wiki.piratenpartei.de/NRW:Vorstand#Vorstandssitzungen
URL:https://kv-piraten.me/termin/vorstandsitzung-lavo-nrw/
END:VEVENT
END:VCALENDAR