BEGIN:VCALENDAR
VERSION:2.0
PRODID:-//PIRATEN Kreis Mettmann - ECPv6.15.20//NONSGML v1.0//EN
CALSCALE:GREGORIAN
METHOD:PUBLISH
X-ORIGINAL-URL:https://kv-piraten.me
X-WR-CALDESC:Veranstaltungen für PIRATEN Kreis Mettmann
REFRESH-INTERVAL;VALUE=DURATION:PT1H
X-Robots-Tag:noindex
X-PUBLISHED-TTL:PT1H
BEGIN:VTIMEZONE
TZID:Europe/Berlin
BEGIN:DAYLIGHT
TZOFFSETFROM:+0100
TZOFFSETTO:+0200
TZNAME:CEST
DTSTART:20230326T010000
END:DAYLIGHT
BEGIN:STANDARD
TZOFFSETFROM:+0200
TZOFFSETTO:+0100
TZNAME:CET
DTSTART:20231029T010000
END:STANDARD
BEGIN:DAYLIGHT
TZOFFSETFROM:+0100
TZOFFSETTO:+0200
TZNAME:CEST
DTSTART:20240331T010000
END:DAYLIGHT
BEGIN:STANDARD
TZOFFSETFROM:+0200
TZOFFSETTO:+0100
TZNAME:CET
DTSTART:20241027T010000
END:STANDARD
BEGIN:DAYLIGHT
TZOFFSETFROM:+0100
TZOFFSETTO:+0200
TZNAME:CEST
DTSTART:20250330T010000
END:DAYLIGHT
BEGIN:STANDARD
TZOFFSETFROM:+0200
TZOFFSETTO:+0100
TZNAME:CET
DTSTART:20251026T010000
END:STANDARD
END:VTIMEZONE
BEGIN:VEVENT
DTSTART;TZID=Europe/Berlin:20240723T190000
DTEND;TZID=Europe/Berlin:20240723T210000
DTSTAMP:20260424T070952
CREATED:20240713T003318Z
LAST-MODIFIED:20250806T225114Z
UID:1334-1721761200-1721768400@kv-piraten.me
SUMMARY:PIRATEN Hilden Stammtisch
DESCRIPTION:Der Stammtisch Hilden trifft sich jetzt jeden 4. Dienstag im Monat um 19 Uhr im Markthaus Hilden\, Markt 10\, 40721 Hilden.
URL:https://kv-piraten.me/termin/piraten-stammtisch-hilden/
LOCATION:Markthaus Hilden\, Markt 10\, 40721 Hilden\, Markt 10\, Hilden\, NRW\, 40721\, Deutschland
CATEGORIES:Stammtisch Hilden
END:VEVENT
END:VCALENDAR