BEGIN:VCALENDAR
VERSION:2.0
PRODID:-//PIRATEN Kreis Mettmann - ECPv6.15.20//NONSGML v1.0//EN
CALSCALE:GREGORIAN
METHOD:PUBLISH
X-WR-CALNAME:PIRATEN Kreis Mettmann
X-ORIGINAL-URL:https://kv-piraten.me
X-WR-CALDESC:Veranstaltungen für PIRATEN Kreis Mettmann
REFRESH-INTERVAL;VALUE=DURATION:PT1H
X-Robots-Tag:noindex
X-PUBLISHED-TTL:PT1H
BEGIN:VTIMEZONE
TZID:Europe/Berlin
BEGIN:DAYLIGHT
TZOFFSETFROM:+0100
TZOFFSETTO:+0200
TZNAME:CEST
DTSTART:20230326T010000
END:DAYLIGHT
BEGIN:STANDARD
TZOFFSETFROM:+0200
TZOFFSETTO:+0100
TZNAME:CET
DTSTART:20231029T010000
END:STANDARD
BEGIN:DAYLIGHT
TZOFFSETFROM:+0100
TZOFFSETTO:+0200
TZNAME:CEST
DTSTART:20240331T010000
END:DAYLIGHT
BEGIN:STANDARD
TZOFFSETFROM:+0200
TZOFFSETTO:+0100
TZNAME:CET
DTSTART:20241027T010000
END:STANDARD
BEGIN:DAYLIGHT
TZOFFSETFROM:+0100
TZOFFSETTO:+0200
TZNAME:CEST
DTSTART:20250330T010000
END:DAYLIGHT
BEGIN:STANDARD
TZOFFSETFROM:+0200
TZOFFSETTO:+0100
TZNAME:CET
DTSTART:20251026T010000
END:STANDARD
END:VTIMEZONE
BEGIN:VEVENT
DTSTART;TZID=Europe/Berlin:20241105T190000
DTEND;TZID=Europe/Berlin:20241105T210000
DTSTAMP:20260424T015521
CREATED:20240821T100258Z
LAST-MODIFIED:20240821T100259Z
UID:1401-1730833200-1730840400@kv-piraten.me
SUMMARY:Kreismitgliederversammlung
DESCRIPTION:Die Mitglieder des Kreisverbandes Mettmann treffen sich am Dienstag\, den 05.11.2024\, 19:00 Uhr. Die ordentliche Einladung wird fristgerecht via Mailingliste zugestellt. Bitte habt einen Blick auf eure E-Mails Anfang Oktober. Die vorläufigen TOP könnt ihr dann der ordentlichen Einladung entnehmen.
URL:https://kv-piraten.me/termin/kreismitgliederversammlung/
CATEGORIES:Kreismitgliederversammlung (KMV)
ORGANIZER;CN="Vorstand KV Mettmann":MAILTO:vorstand@kv-piraten.me
END:VEVENT
END:VCALENDAR