BEGIN:VCALENDAR
VERSION:2.0
PRODID:-//PIRATEN Kreis Mettmann - ECPv6.15.20//NONSGML v1.0//EN
CALSCALE:GREGORIAN
METHOD:PUBLISH
X-WR-CALNAME:PIRATEN Kreis Mettmann
X-ORIGINAL-URL:https://kv-piraten.me
X-WR-CALDESC:Veranstaltungen für PIRATEN Kreis Mettmann
REFRESH-INTERVAL;VALUE=DURATION:PT1H
X-Robots-Tag:noindex
X-PUBLISHED-TTL:PT1H
BEGIN:VTIMEZONE
TZID:Europe/Berlin
BEGIN:DAYLIGHT
TZOFFSETFROM:+0100
TZOFFSETTO:+0200
TZNAME:CEST
DTSTART:20240331T010000
END:DAYLIGHT
BEGIN:STANDARD
TZOFFSETFROM:+0200
TZOFFSETTO:+0100
TZNAME:CET
DTSTART:20241027T010000
END:STANDARD
BEGIN:DAYLIGHT
TZOFFSETFROM:+0100
TZOFFSETTO:+0200
TZNAME:CEST
DTSTART:20250330T010000
END:DAYLIGHT
BEGIN:STANDARD
TZOFFSETFROM:+0200
TZOFFSETTO:+0100
TZNAME:CET
DTSTART:20251026T010000
END:STANDARD
BEGIN:DAYLIGHT
TZOFFSETFROM:+0100
TZOFFSETTO:+0200
TZNAME:CEST
DTSTART:20260329T010000
END:DAYLIGHT
BEGIN:STANDARD
TZOFFSETFROM:+0200
TZOFFSETTO:+0100
TZNAME:CET
DTSTART:20261025T010000
END:STANDARD
END:VTIMEZONE
BEGIN:VEVENT
DTSTART;TZID=Europe/Berlin:20250328T210000
DTEND;TZID=Europe/Berlin:20250328T230000
DTSTAMP:20260423T202906
CREATED:20250325T220707Z
LAST-MODIFIED:20250325T220709Z
UID:1558-1743195600-1743202800@kv-piraten.me
SUMMARY:Mumble "Talk am Freitag – AG Wirtschaft"
DESCRIPTION:zum Thema: „Was haben die „Chicago Boys“ mit „MAGA“ zu tun? – Schock-Strategie der besonderen Art“ \n\n\n\nHilfe zur Mumble-Installation
URL:https://kv-piraten.me/termin/mumble-talk-am-freitag-ag-wirtschaft/
CATEGORIES:Mumble,Talk am Freitag - AG Wirtschaft
END:VEVENT
END:VCALENDAR