BEGIN:VCALENDAR
VERSION:2.0
PRODID:-//PIRATEN Kreis Mettmann - ECPv6.15.20//NONSGML v1.0//EN
CALSCALE:GREGORIAN
METHOD:PUBLISH
X-WR-CALNAME:PIRATEN Kreis Mettmann
X-ORIGINAL-URL:https://kv-piraten.me
X-WR-CALDESC:Veranstaltungen für PIRATEN Kreis Mettmann
REFRESH-INTERVAL;VALUE=DURATION:PT1H
X-Robots-Tag:noindex
X-PUBLISHED-TTL:PT1H
BEGIN:VTIMEZONE
TZID:Europe/Berlin
BEGIN:DAYLIGHT
TZOFFSETFROM:+0100
TZOFFSETTO:+0200
TZNAME:CEST
DTSTART:20240331T010000
END:DAYLIGHT
BEGIN:STANDARD
TZOFFSETFROM:+0200
TZOFFSETTO:+0100
TZNAME:CET
DTSTART:20241027T010000
END:STANDARD
BEGIN:DAYLIGHT
TZOFFSETFROM:+0100
TZOFFSETTO:+0200
TZNAME:CEST
DTSTART:20250330T010000
END:DAYLIGHT
BEGIN:STANDARD
TZOFFSETFROM:+0200
TZOFFSETTO:+0100
TZNAME:CET
DTSTART:20251026T010000
END:STANDARD
BEGIN:DAYLIGHT
TZOFFSETFROM:+0100
TZOFFSETTO:+0200
TZNAME:CEST
DTSTART:20260329T010000
END:DAYLIGHT
BEGIN:STANDARD
TZOFFSETFROM:+0200
TZOFFSETTO:+0100
TZNAME:CET
DTSTART:20261025T010000
END:STANDARD
END:VTIMEZONE
BEGIN:VEVENT
DTSTART;TZID=Europe/Berlin:20250829T100000
DTEND;TZID=Europe/Berlin:20250829T140000
DTSTAMP:20260419T185303
CREATED:20250803T140512Z
LAST-MODIFIED:20250803T141852Z
UID:1766-1756461600-1756476000@kv-piraten.me
SUMMARY:PIRATEN Hilden - Infostand
DESCRIPTION:Am Freitag\, den 29.08.2025 zwischen 10:00 und 14:00 Uhr könnt ihr die PIRATEN Hilden am Infostand Nordmarkt\, 40724 Hilden (Platz 6) treffen. \n\n\n\nWeiterführende Informationen findet ihr auch in unserem Piratenwiki unter NRW → Kreis Mettmann → Hilden.Wahlprogramm der PIRATEN Hilden.
URL:https://kv-piraten.me/termin/piraten-hilden-infostand-11/
LOCATION:Nordmarkt\, 40724 Hilden\, Lortzingstr./Beethoven Str.\, Hilden\, 40724
CATEGORIES:Hilden,Infostand,Infostände in Hilden,PIRATEN Hilden
ATTACH;FMTTYPE=image/jpeg:https://kv-piraten.me/wp-content/uploads/2025/08/TreffpunktInfostand-5.jpg
END:VEVENT
END:VCALENDAR