BEGIN:VCALENDAR
VERSION:2.0
PRODID:-//PIRATEN Kreis Mettmann - ECPv6.15.20//NONSGML v1.0//EN
CALSCALE:GREGORIAN
METHOD:PUBLISH
X-ORIGINAL-URL:https://kv-piraten.me
X-WR-CALDESC:Veranstaltungen für PIRATEN Kreis Mettmann
REFRESH-INTERVAL;VALUE=DURATION:PT1H
X-Robots-Tag:noindex
X-PUBLISHED-TTL:PT1H
BEGIN:VTIMEZONE
TZID:Europe/Berlin
BEGIN:DAYLIGHT
TZOFFSETFROM:+0100
TZOFFSETTO:+0200
TZNAME:CEST
DTSTART:20230326T010000
END:DAYLIGHT
BEGIN:STANDARD
TZOFFSETFROM:+0200
TZOFFSETTO:+0100
TZNAME:CET
DTSTART:20231029T010000
END:STANDARD
BEGIN:DAYLIGHT
TZOFFSETFROM:+0100
TZOFFSETTO:+0200
TZNAME:CEST
DTSTART:20240331T010000
END:DAYLIGHT
BEGIN:STANDARD
TZOFFSETFROM:+0200
TZOFFSETTO:+0100
TZNAME:CET
DTSTART:20241027T010000
END:STANDARD
BEGIN:DAYLIGHT
TZOFFSETFROM:+0100
TZOFFSETTO:+0200
TZNAME:CEST
DTSTART:20250330T010000
END:DAYLIGHT
BEGIN:STANDARD
TZOFFSETFROM:+0200
TZOFFSETTO:+0100
TZNAME:CET
DTSTART:20251026T010000
END:STANDARD
END:VTIMEZONE
BEGIN:VEVENT
DTSTART;TZID=Europe/Berlin:20240901T120000
DTEND;TZID=Europe/Berlin:20240901T180000
DTSTAMP:20260424T033156
CREATED:20240821T095708Z
LAST-MODIFIED:20240821T095730Z
UID:1399-1725192000-1725213600@kv-piraten.me
SUMMARY:Herminghausparkfest Tag 2
DESCRIPTION:„Parkfest im Herminghauspark \n\n\n\nAlle zwei Jahre findet das große Parkfest im Herminghauspark statt. Am Samstag\, 31.08.2024\, und am Sonntag\, 01.09.2024\, jeweils von 12 bis 18 Uhr ist es wieder so weit. Zum sechsten Mal wird der Herminghauspark zum Festplatz und lädt mit viel Programm\, Live-Musik\, Tanz\, Spiel und Spaß sowie einem vielseitigen Cateringangebot zum Mitmachen\, Entspannen und Verweilen ein. \n\n\n\nZum Auftakt veranstaltet der Rotary Club Velbert seinen traditionellen Benefizlauf. \n\n\n\nAm Samstagabend wird der Wohnmobilparkplatz an der Parkstraße neben dem Herminghauspark dann zur Partyzone. Beim Konzert unter der Saubrücke ist mit der Coverrockband „DELUXE – the Radioband“ Partystimmung garantiert.“Quelle: https://stadtmarketing.velbert.de/events/parkfest-2024
URL:https://kv-piraten.me/termin/herminghausparkfest-tag-2/
LOCATION:Herminghauspark\, Uelenbeek\, Velbert\, NRW\, 42549\, Deutschland
CATEGORIES:Parkfest Herminghauspark
END:VEVENT
BEGIN:VEVENT
DTSTART;TZID=Europe/Berlin:20240917T190000
DTEND;TZID=Europe/Berlin:20240917T210000
DTSTAMP:20260424T033156
CREATED:20240821T094156Z
LAST-MODIFIED:20240821T094442Z
UID:1383-1726599600-1726606800@kv-piraten.me
SUMMARY:Vorstandssitzung KV Mettmann
DESCRIPTION:Der Vorstand des Kreisverbandes (kurz KV) Mettmann trifft sich zur Vorstandssitzung. Wieder im BBB (Big Blue Button).
URL:https://kv-piraten.me/termin/vorstandssitzung-kv-mettmann/
CATEGORIES:VoSi KV Mettmann
ORGANIZER;CN="Vorsitzende Jeanine Brinks":MAILTO:jeanine.brinks@piratenpartei-nrw.de
END:VEVENT
BEGIN:VEVENT
DTSTART;TZID=Europe/Berlin:20240924T190000
DTEND;TZID=Europe/Berlin:20240924T210000
DTSTAMP:20260424T033156
CREATED:20240713T004804Z
LAST-MODIFIED:20250806T225212Z
UID:1344-1727204400-1727211600@kv-piraten.me
SUMMARY:PIRATEN Hilden Stammtisch
DESCRIPTION:Der Stammtisch Hilden trifft sich jetzt jeden 4. Dienstag im Monat um 19 Uhr im Markthaus Hilden\, Markt 10\, 40721 Hilden.
URL:https://kv-piraten.me/termin/piraten-stammtisch-hilden-3/
LOCATION:Markthaus Hilden\, Markt 10\, 40721 Hilden\, Markt 10\, Hilden\, NRW\, 40721\, Deutschland
CATEGORIES:Hilden,PIRATEN Hilden,Stammtisch Hilden
END:VEVENT
END:VCALENDAR