BEGIN:VCALENDAR
VERSION:2.0
PRODID:-//PIRATEN Kreis Mettmann - ECPv6.15.20//NONSGML v1.0//EN
CALSCALE:GREGORIAN
METHOD:PUBLISH
X-ORIGINAL-URL:https://kv-piraten.me
X-WR-CALDESC:Veranstaltungen für PIRATEN Kreis Mettmann
REFRESH-INTERVAL;VALUE=DURATION:PT1H
X-Robots-Tag:noindex
X-PUBLISHED-TTL:PT1H
BEGIN:VTIMEZONE
TZID:Europe/Berlin
BEGIN:DAYLIGHT
TZOFFSETFROM:+0100
TZOFFSETTO:+0200
TZNAME:CEST
DTSTART:20240331T010000
END:DAYLIGHT
BEGIN:STANDARD
TZOFFSETFROM:+0200
TZOFFSETTO:+0100
TZNAME:CET
DTSTART:20241027T010000
END:STANDARD
BEGIN:DAYLIGHT
TZOFFSETFROM:+0100
TZOFFSETTO:+0200
TZNAME:CEST
DTSTART:20250330T010000
END:DAYLIGHT
BEGIN:STANDARD
TZOFFSETFROM:+0200
TZOFFSETTO:+0100
TZNAME:CET
DTSTART:20251026T010000
END:STANDARD
BEGIN:DAYLIGHT
TZOFFSETFROM:+0100
TZOFFSETTO:+0200
TZNAME:CEST
DTSTART:20260329T010000
END:DAYLIGHT
BEGIN:STANDARD
TZOFFSETFROM:+0200
TZOFFSETTO:+0100
TZNAME:CET
DTSTART:20261025T010000
END:STANDARD
END:VTIMEZONE
BEGIN:VEVENT
DTSTART;TZID=Europe/Berlin:20250401T200000
DTEND;TZID=Europe/Berlin:20250401T230000
DTSTAMP:20260423T172117
CREATED:20250325T215025Z
LAST-MODIFIED:20250401T102541Z
UID:1551-1743537600-1743548400@kv-piraten.me
SUMMARY:Dicker Engel im Jitsi
DESCRIPTION:„Dicker Engel im Jitsi „Thema: Trump und seine Agenda. Kein Scherz“
URL:https://kv-piraten.me/termin/jitsi-thema-trump-und-seine-agenda/
CATEGORIES:Dicker Engel,Jitsi
ATTACH;FMTTYPE=image/jpeg:https://kv-piraten.me/wp-content/uploads/2025/03/SavetheDateDi010420252000UhrDick.jpg
END:VEVENT
BEGIN:VEVENT
DTSTART;TZID=Europe/Berlin:20250409T190000
DTEND;TZID=Europe/Berlin:20250409T220000
DTSTAMP:20260423T172117
CREATED:20250317T195017Z
LAST-MODIFIED:20250401T102219Z
UID:1484-1744225200-1744236000@kv-piraten.me
SUMMARY:Erster Online-Stammtisch der Piraten KV Mettmann
DESCRIPTION:Der Piratenpartei Deutschland – Kreisverband Mettmann veranstaltet seinen ersten Online-Stammtisch. Zu Anfang wird es durch den Schatzmeister einen Impulsvortrag geben. Im Anschluss ist ausreichend Zeit für Gespräche und Diskussion. \n\n\n\nDer Jitsi Meet Raum wird noch bekannt gegeben.
URL:https://kv-piraten.me/termin/erster-online-stammtisch-der-piraten-kv-mettmann/
CATEGORIES:Online-Stammtisch KV Mettmann
ATTACH;FMTTYPE=image/jpeg:https://kv-piraten.me/wp-content/uploads/2025/03/OnlineStammtisch-3.jpg
END:VEVENT
BEGIN:VEVENT
DTSTART;TZID=Europe/Berlin:20250410T163000
DTEND;TZID=Europe/Berlin:20250410T173000
DTSTAMP:20260423T172117
CREATED:20250406T190200Z
LAST-MODIFIED:20250804T184339Z
UID:1630-1744302600-1744306200@kv-piraten.me
SUMMARY:Kreistagssitzung
DESCRIPTION:Am Donnerstag\, den 10.04.2025\, ab 16:30 Uhr könnt ihr der Kreistagssitzung via Livestream folgen. Relevant für unsere Fraktion PIRATEN plus.
URL:https://kv-piraten.me/termin/kreistagssitzung/
CATEGORIES:Kreistags-TV,Livestream Kreistagssitzungen
ATTACH;FMTTYPE=image/jpeg:https://kv-piraten.me/wp-content/uploads/2025/04/PIRATEN-waehlen-fuer-einen-Kurswechsel-in-Hilden-841-x-1189-mm-LinkedIn-Beitrag-2.jpg
END:VEVENT
BEGIN:VEVENT
DTSTART;TZID=Europe/Berlin:20250422T190000
DTEND;TZID=Europe/Berlin:20250422T210000
DTSTAMP:20260423T172117
CREATED:20250317T203246Z
LAST-MODIFIED:20250806T225539Z
UID:1495-1745348400-1745355600@kv-piraten.me
SUMMARY:PIRATEN Hilden Stammtisch
DESCRIPTION:Der PIRATEN Hilden Stammtisch findet jeden 4. Dienstag im Monat um 19 Uhr im Markthaus Hilden\, Markt 10\, 40721 Hilden. Ausnahmen können Dezember und Januar sein. Hierzu auch weitere Informationen in unserem Piratenwiki. \n\n\n\nZur besseren Planung wird um Voranmeldung bei Andreas Benoit gebeten.
URL:https://kv-piraten.me/termin/piraten-stammtisch-hilden-10/
CATEGORIES:Hilden,PIRATEN Hilden,Stammtisch Hilden
ATTACH;FMTTYPE=image/jpeg:https://kv-piraten.me/wp-content/uploads/2024/08/PIRATEN-waehlen-fuer-einen-Kurswechsel-in-Hilden-841-x-1189-mm-LinkedIn-Beitrag-3.jpg
END:VEVENT
END:VCALENDAR