BEGIN:VCALENDAR
VERSION:2.0
PRODID:-//PIRATEN Kreis Mettmann - ECPv6.15.20//NONSGML v1.0//EN
CALSCALE:GREGORIAN
METHOD:PUBLISH
X-WR-CALNAME:PIRATEN Kreis Mettmann
X-ORIGINAL-URL:https://kv-piraten.me
X-WR-CALDESC:Veranstaltungen für PIRATEN Kreis Mettmann
REFRESH-INTERVAL;VALUE=DURATION:PT1H
X-Robots-Tag:noindex
X-PUBLISHED-TTL:PT1H
BEGIN:VTIMEZONE
TZID:Europe/Berlin
BEGIN:DAYLIGHT
TZOFFSETFROM:+0100
TZOFFSETTO:+0200
TZNAME:CEST
DTSTART:20240331T010000
END:DAYLIGHT
BEGIN:STANDARD
TZOFFSETFROM:+0200
TZOFFSETTO:+0100
TZNAME:CET
DTSTART:20241027T010000
END:STANDARD
BEGIN:DAYLIGHT
TZOFFSETFROM:+0100
TZOFFSETTO:+0200
TZNAME:CEST
DTSTART:20250330T010000
END:DAYLIGHT
BEGIN:STANDARD
TZOFFSETFROM:+0200
TZOFFSETTO:+0100
TZNAME:CET
DTSTART:20251026T010000
END:STANDARD
BEGIN:DAYLIGHT
TZOFFSETFROM:+0100
TZOFFSETTO:+0200
TZNAME:CEST
DTSTART:20260329T010000
END:DAYLIGHT
BEGIN:STANDARD
TZOFFSETFROM:+0200
TZOFFSETTO:+0100
TZNAME:CET
DTSTART:20261025T010000
END:STANDARD
END:VTIMEZONE
BEGIN:VEVENT
DTSTART;TZID=Europe/Berlin:20250802T100000
DTEND;TZID=Europe/Berlin:20250802T140000
DTSTAMP:20260421T115003
CREATED:20250711T061245Z
LAST-MODIFIED:20250711T070354Z
UID:1682-1754128800-1754143200@kv-piraten.me
SUMMARY:PIRATEN Hilden - Infostand
DESCRIPTION:Am Samstag\, den 02.08.2025 zwischen 10:00 und 14:00 Uhr könnt ihr die PIRATEN Hilden am Infostand Alter Markt\, 40721 Hilden (Stand 5) treffen. \n\n\n\nWeiterführende Informationen findet ihr auch in unserem Piratenwiki unter NRW → Kreis Mettmann → Hilden.Wahlprogramm der PIRATEN Hilden.
URL:https://kv-piraten.me/termin/piraten-hilden-infostand-2/
LOCATION:Alter Markt\, 40721 Hilden\, Alter Markt\, Hilden\, 40721\, Germany
CATEGORIES:Hilden,Infostand,Infostände in Hilden,PIRATEN Hilden
ATTACH;FMTTYPE=image/jpeg:https://kv-piraten.me/wp-content/uploads/2025/07/TreffpunktInfostand-1.jpg
END:VEVENT
BEGIN:VEVENT
DTSTART;TZID=Europe/Berlin:20250808T180000
DTEND;TZID=Europe/Berlin:20250808T220000
DTSTAMP:20260421T115003
CREATED:20250803T111602Z
LAST-MODIFIED:20250803T162423Z
UID:1743-1754676000-1754690400@kv-piraten.me
SUMMARY:Piraten Hilden - Infostand
DESCRIPTION:Am Freitag\, den 08.08.2025 zwischen 18:00 und 22:00 Uhr könnt ihr die PIRATEN Hilden am Infostand Am Rathaus Center\, 40721 Hilden (Stand 3) treffen. \n\n\n\nWeiterführende Informationen findet ihr auch in unserem Piratenwiki unter NRW → Kreis Mettmann → Hilden.Wahlprogramm der PIRATEN Hilden.
URL:https://kv-piraten.me/termin/piraten-hilden-infostand-7/
LOCATION:Am Rathaus Center\, 40721 Hilden\, Bismarckstraße 36\, Hilden\, 40721\, Germany
CATEGORIES:Hilden,Infostand,Infostände in Hilden,PIRATEN Hilden
ATTACH;FMTTYPE=image/jpeg:https://kv-piraten.me/wp-content/uploads/2025/08/TreffpunktInfostand.jpg
END:VEVENT
BEGIN:VEVENT
DTSTART;TZID=Europe/Berlin:20250809T100000
DTEND;TZID=Europe/Berlin:20250809T140000
DTSTAMP:20260421T115003
CREATED:20250803T132550Z
LAST-MODIFIED:20250803T162638Z
UID:1755-1754733600-1754748000@kv-piraten.me
SUMMARY:PIRATEN Hilden - Infostand
DESCRIPTION:Am Samstag\, den 09.08.2025 zwischen 10:00 und 14:00 Uhr könnt ihr die PIRATEN Hilden am Infostand Am Rathaus Center\, 40721 Hilden (Stand 2) treffen. \n\n\n\nWeiterführende Informationen findet ihr auch in unserem Piratenwiki unter NRW → Kreis Mettmann → Hilden.Wahlprogramm der PIRATEN Hilden.
URL:https://kv-piraten.me/termin/piraten-hilden-infostand-9/
LOCATION:Am Rathaus Center\, 40721 Hilden\, Bismarckstraße 36\, Hilden\, 40721\, Germany
CATEGORIES:Hilden,Infostand,Infostände in Hilden,PIRATEN Hilden
ATTACH;FMTTYPE=image/jpeg:https://kv-piraten.me/wp-content/uploads/2025/08/TreffpunktInfostand-1.jpg
END:VEVENT
BEGIN:VEVENT
DTSTART;TZID=Europe/Berlin:20250816T100000
DTEND;TZID=Europe/Berlin:20250816T140000
DTSTAMP:20260421T115003
CREATED:20250803T133123Z
LAST-MODIFIED:20250803T162825Z
UID:1764-1755338400-1755352800@kv-piraten.me
SUMMARY:PIRATEN Hilden - Infostand
DESCRIPTION:Am Samstag\, den 16.08.2025 zwischen 10:00 und 14:00 Uhr könnt ihr die PIRATEN Hilden am Infostand Am Rathaus Center\, 40721 Hilden (Stand 2) treffen. \n\n\n\nWeiterführende Informationen findet ihr auch in unserem Piratenwiki unter NRW → Kreis Mettmann → Hilden.Wahlprogramm der PIRATEN Hilden.
URL:https://kv-piraten.me/termin/piraten-hilden-infostand-10/
LOCATION:Am Rathaus Center\, 40721 Hilden\, Bismarckstraße 36\, Hilden\, 40721\, Germany
CATEGORIES:Hilden,Infostand,Infostände in Hilden,PIRATEN Hilden
ATTACH;FMTTYPE=image/jpeg:https://kv-piraten.me/wp-content/uploads/2025/08/TreffpunktInfostand-2.jpg
END:VEVENT
BEGIN:VEVENT
DTSTART;TZID=Europe/Berlin:20250823T100000
DTEND;TZID=Europe/Berlin:20250823T140000
DTSTAMP:20260421T115003
CREATED:20250711T062342Z
LAST-MODIFIED:20250711T070434Z
UID:1687-1755943200-1755957600@kv-piraten.me
SUMMARY:PIRATEN Hilden - Infostand
DESCRIPTION:Am Samstag\, den 23.08.2025 zwischen 10:00 und 14:00 Uhr könnt ihr die PIRATEN Hilden am Infostand Alter Markt\, 40721 Hilden (Stand 3) treffen. \n\n\n\nWeiterführende Informationen findet ihr auch in unserem Piratenwiki unter NRW → Kreis Mettmann → Hilden.Wahlprogramm der PIRATEN Hilden.
URL:https://kv-piraten.me/termin/piraten-hilden-infostand-3/
LOCATION:Alter Markt\, 40721 Hilden\, Alter Markt\, Hilden\, 40721\, Germany
CATEGORIES:Hilden,Infostand,Infostände in Hilden,PIRATEN Hilden
ATTACH;FMTTYPE=image/jpeg:https://kv-piraten.me/wp-content/uploads/2025/07/TreffpunktInfostand-2.jpg
END:VEVENT
BEGIN:VEVENT
DTSTART;TZID=Europe/Berlin:20250826T190000
DTEND;TZID=Europe/Berlin:20250826T210000
DTSTAMP:20260421T115003
CREATED:20250806T192931Z
LAST-MODIFIED:20250806T224835Z
UID:1820-1756234800-1756242000@kv-piraten.me
SUMMARY:PIRATEN Hilden Stammtisch
DESCRIPTION:Der PIRATEN Hilden Stammtisch findet jeden 4. Dienstag im Monat um 19 Uhr im Markthaus Hilden\, Markt 10\, 40721 Hilden. Ausnahmen können Dezember und Januar sein. Hierzu auch weitere Informationen in unserem Piratenwiki. \n\n\n\nZur besseren Planung wird um Voranmeldung bei Andreas Benoit gebeten.
URL:https://kv-piraten.me/termin/piraten-hilden-stammtisch-3/
LOCATION:Markthaus Hilden\, Markt 10\, 40721 Hilden\, Markt 10\, Hilden\, NRW\, 40721\, Deutschland
CATEGORIES:Hilden,PIRATEN Hilden,Stammtisch Hilden
ATTACH;FMTTYPE=image/jpeg:https://kv-piraten.me/wp-content/uploads/2024/08/PIRATEN-waehlen-fuer-einen-Kurswechsel-in-Hilden-841-x-1189-mm-LinkedIn-Beitrag-3.jpg
END:VEVENT
BEGIN:VEVENT
DTSTART;TZID=Europe/Berlin:20250829T100000
DTEND;TZID=Europe/Berlin:20250829T140000
DTSTAMP:20260421T115003
CREATED:20250803T140512Z
LAST-MODIFIED:20250803T141852Z
UID:1766-1756461600-1756476000@kv-piraten.me
SUMMARY:PIRATEN Hilden - Infostand
DESCRIPTION:Am Freitag\, den 29.08.2025 zwischen 10:00 und 14:00 Uhr könnt ihr die PIRATEN Hilden am Infostand Nordmarkt\, 40724 Hilden (Platz 6) treffen. \n\n\n\nWeiterführende Informationen findet ihr auch in unserem Piratenwiki unter NRW → Kreis Mettmann → Hilden.Wahlprogramm der PIRATEN Hilden.
URL:https://kv-piraten.me/termin/piraten-hilden-infostand-11/
LOCATION:Nordmarkt\, 40724 Hilden\, Lortzingstr./Beethoven Str.\, Hilden\, 40724
CATEGORIES:Hilden,Infostand,Infostände in Hilden,PIRATEN Hilden
ATTACH;FMTTYPE=image/jpeg:https://kv-piraten.me/wp-content/uploads/2025/08/TreffpunktInfostand-5.jpg
END:VEVENT
BEGIN:VEVENT
DTSTART;TZID=Europe/Berlin:20250830T100000
DTEND;TZID=Europe/Berlin:20250830T140000
DTSTAMP:20260421T115003
CREATED:20250711T070221Z
LAST-MODIFIED:20250711T094737Z
UID:1692-1756548000-1756562400@kv-piraten.me
SUMMARY:PIRATEN Hilden - Infostand
DESCRIPTION:Am Samstag\, den 30.08.2025 zwischen 10:00 und 14:00 Uhr könnt ihr die PIRATEN Hilden am Infostand Warringtonplatz\, 40721 Hilden treffen. \n\n\n\nWeiterführende Informationen findet ihr auch in unserem Piratenwiki unter NRW → Kreis Mettmann → Hilden.Wahlprogramm der PIRATEN Hilden.
URL:https://kv-piraten.me/termin/piraten-hilden-infostand-4/
LOCATION:Warringtonplatz\, Hilden\, Warringtonplatz\, Hilden\, 40721\, Germany
CATEGORIES:Hilden,Infostand,Infostände in Hilden,PIRATEN Hilden
ATTACH;FMTTYPE=image/jpeg:https://kv-piraten.me/wp-content/uploads/2025/07/TreffpunktInfostand-3.jpg
END:VEVENT
END:VCALENDAR